BEGIN:VCALENDAR
VERSION:2.0
PRODID:-//wp-events-plugin.com//7.2.3.1//EN
TZID:America/Chicago
X-WR-TIMEZONE:America/Chicago
BEGIN:VEVENT
UID:124@townofkellywi.org
DTSTART;TZID=America/Chicago:20260404T100000
DTEND;TZID=America/Chicago:20260404T110000
DTSTAMP:20260302T002443Z
URL:https://townofkellywi.org/events/april-04-2026-election-equipment-test
 ing/
SUMMARY:April 04\, 2026 -Election Equipment Testing
DESCRIPTION:
CATEGORIES:Elections,Test Events
LOCATION:Town of Kelly Town Hall\, 27525 Maple Ridge Rd\, Mason\, WI\, 5485
 6\, United States
X-APPLE-STRUCTURED-LOCATION;VALUE=URI;X-ADDRESS=27525 Maple Ridge Rd\, Maso
 n\, WI\, 54856\, United States;X-APPLE-RADIUS=100;X-TITLE=Town of Kelly To
 wn Hall:geo:0,0
END:VEVENT
BEGIN:VTIMEZONE
TZID:America/Chicago
X-LIC-LOCATION:America/Chicago
BEGIN:DAYLIGHT
DTSTART:20260308T030000
TZOFFSETFROM:-0600
TZOFFSETTO:-0500
TZNAME:CDT
END:DAYLIGHT
END:VTIMEZONE
END:VCALENDAR