BEGIN:VCALENDAR
VERSION:2.0
PRODID:-//wp-events-plugin.com//7.2.3.1//EN
TZID:America/Chicago
X-WR-TIMEZONE:America/Chicago
BEGIN:VEVENT
UID:89@townofkellywi.org
DTSTART;TZID=America/Chicago:20250605T180000
DTEND;TZID=America/Chicago:20250605T200000
DTSTAMP:20250415T232431Z
URL:https://townofkellywi.org/events/june-5-2025-board-of-review/
SUMMARY:June 5\, 2025 - Board of Review
DESCRIPTION:
CATEGORIES:Board Meetings
LOCATION:Town of Kelly Town Hall\, 27525 Maple Ridge Rd\, Mason\, WI\, 5485
 6\, United States
X-APPLE-STRUCTURED-LOCATION;VALUE=URI;X-ADDRESS=27525 Maple Ridge Rd\, Maso
 n\, WI\, 54856\, United States;X-APPLE-RADIUS=100;X-TITLE=Town of Kelly To
 wn Hall:geo:0,0
END:VEVENT
BEGIN:VTIMEZONE
TZID:America/Chicago
X-LIC-LOCATION:America/Chicago
BEGIN:DAYLIGHT
DTSTART:20250309T030000
TZOFFSETFROM:-0600
TZOFFSETTO:-0500
TZNAME:CDT
END:DAYLIGHT
END:VTIMEZONE
END:VCALENDAR